BEGIN:VCALENDAR
VERSION:2.0
PRODID:-//ChamberMaster//Event Calendar 2.0//EN
METHOD:PUBLISH
X-PUBLISHED-TTL:P3D
REFRESH-INTERVAL:P3D
CALSCALE:GREGORIAN
BEGIN:VEVENT
DTSTART:20240501T124500Z
DTEND:20240501T140000Z
X-MICROSOFT-CDO-ALLDAYEVENT:FALSE
SUMMARY:OTR Chamber May 2024 Merchant Meeting
DESCRIPTION:Join us for our quarterly OTR Chamber Merchant Meeting.  This is an informational meeting with updates on what is going on in OTR\,  future events\, and spotlights on area businesses and helpful information for business owners.  Coffee & light bites will be available. \n\n\n\nGet added to our invite list for future meetings & networking events by emailing info@otrchamber.com.
X-ALT-DESC;FMTTYPE=text/html:Join us for our quarterly OTR Chamber Merchant Meeting.&nbsp\; This is an informational meeting with updates on what is going on in OTR\,&nbsp\; future events\, and spotlights on area businesses and helpful information for business owners.&nbsp\; Coffee &amp\; light bites will be available.&nbsp\;<br />\n<br />\n<strong>Get added to our invite list for future meetings &amp\; networking events by emailing info@otrchamber.com.</strong>
LOCATION:Union Hall - 1311 Vine St. Cincinnati\, OH 45202
UID:e.1671.8519
SEQUENCE:3
DTSTAMP:20260422T090658Z
URL:https://business.otrchamber.com/events/details/otr-chamber-may-2024-merchant-meeting-8519
END:VEVENT

END:VCALENDAR
