BEGIN:VCALENDAR
VERSION:2.0
PRODID:-//ChamberMaster//Event Calendar 2.0//EN
METHOD:PUBLISH
X-PUBLISHED-TTL:P3D
REFRESH-INTERVAL:P3D
CALSCALE:GREGORIAN
BEGIN:VEVENT
DTSTART:20240515T210000Z
DTEND:20240516T000000Z
X-MICROSOFT-CDO-ALLDAYEVENT:FALSE
SUMMARY:OTR Awards
DESCRIPTION:Let's celebrate what makes OTR so amazing the people and the businesses! Join your OTR\n\nChamber of Commerce for a evening of great food\, spirits\, camaraderie\, and celebration. On\n\nthis special evening\, we will honor those in the following categories:\n\nGood Neighbor\n\nRising Star\n\nYou Made a Difference\n\nOTR Spirit\n\nYoung Entrepreneur\n\nBusiness of the Year\n\nNominations will be open on February 8 th and the deadline will be March 31 st . Three finalists will\n\nthen be decided\, with the winner announced at the Awards celebration on May 15 th .\n\nTickets go on sale February 8 th .
X-ALT-DESC;FMTTYPE=text/html:<span style="font-size:20px\;"><strong>Let&rsquo\;s celebrate what makes OTR so amazing&hellip\;the people and the businesses! Join your OTR<br />\nChamber of Commerce for a evening of great food\, spirits\, camaraderie\, and celebration. On<br />\nthis special evening\, we will honor those in the following categories:</strong></span><br />\nGood Neighbor<br />\nRising Star<br />\nYou Made a Difference<br />\nOTR Spirit<br />\nYoung Entrepreneur<br />\nBusiness of the Year<br />\nNominations will be open on February 8 th and the deadline will be March 31 st . Three finalists will<br />\nthen be decided\, with the winner announced at the Awards celebration on May 15 th .<br />\nTickets go on sale February 8 th .
LOCATION:The Woodward Theater 1404 Main Street Cincinnati OH 45202
UID:e.1671.8507
SEQUENCE:3
DTSTAMP:20260422T091519Z
URL:https://business.otrchamber.com/events/details/otr-awards-8507
END:VEVENT

END:VCALENDAR
