BEGIN:VCALENDAR
VERSION:2.0
PRODID:-//ChamberMaster//Event Calendar 2.0//EN
METHOD:PUBLISH
X-PUBLISHED-TTL:P3D
REFRESH-INTERVAL:P3D
CALSCALE:GREGORIAN
BEGIN:VEVENT
DTSTART:20240516T170000Z
DTEND:20240516T183000Z
X-MICROSOFT-CDO-ALLDAYEVENT:FALSE
SUMMARY:Music Hall Indoor Tours
DESCRIPTION:Presented by the Friends of Music Hall\, tour through private and public spaces in this majestic structure led by knowledgeable guides. See for yourself how it reflects the spirit of both past and present. Discover our work to restore the finial ornamentation from 1878. Tours can be enjoyed by a wide range of ages and interests.  Individuals\, small groups and large groups can be accommodated. Tickets must be purchased in advance. Tours last about 75 minutes.
X-ALT-DESC;FMTTYPE=text/html:<span style="color:#333333"><span style="font-family:arial\,sans-serif"><span style="font-size:10.0pt">Presented by the Friends of Music Hall\, tour through private and public spaces in this majestic structure led by knowledgeable guides. See for yourself how it reflects the spirit of both past and present. Discover our work to restore the finial ornamentation from 1878.&nbsp\;Tours can be enjoyed by a wide range of ages and interests.&nbsp\; Individuals\, small groups and large groups can be accommodated. <strong>Tickets must be purchased in advance.</strong> Tours last about 75 minutes.&nbsp\;</span></span></span><br />\n&nbsp\;
LOCATION:Cincinnati Music Hall 1241 Elm Street Cincinnati\, OH 45202
UID:e.1671.8542
SEQUENCE:3
DTSTAMP:20260422T090704Z
URL:https://business.otrchamber.com/events/details/music-hall-indoor-tours-05-16-2024-8542
END:VEVENT

END:VCALENDAR
