BEGIN:VCALENDAR
VERSION:2.0
PRODID:-//ChamberMaster//Event Calendar 2.0//EN
METHOD:PUBLISH
X-PUBLISHED-TTL:P3D
REFRESH-INTERVAL:P3D
CALSCALE:GREGORIAN
BEGIN:VEVENT
DTSTART:20241112T160000Z
DTEND:20241112T180000Z
X-MICROSOFT-CDO-ALLDAYEVENT:FALSE
SUMMARY:Marketing Workshop Series Part V: Holiday Marketing on a Budget
DESCRIPTION:Holiday Marketing on a Budget: Maximizing Impact with Minimal Spend\n\nThis workshop will teach participants how to create effective holiday marketing campaigns without breaking the bank. Attendees will learn cost-effective strategies\, practical tips\, and creative ideas to make their brand stand out during the busy holiday season.\nThe holiday season is a prime time for businesses to boost sales and engage with customers\, but marketing can often be expensive. In this hands-on workshop\, you'll learn practical strategies to create impactful holiday marketing campaigns without breaking the bank. Discover budget-friendly tactics to attract attention\, increase customer engagement\, and drive sales during the most competitive time of the year. We'll explore creative social media promotions\, email marketing\, partnerships\, and more all designed to maximize results on a limited budget. Whether you're a small business owner\, marketer\, or entrepreneur\, this workshop will equip you with actionable tools to thrive this holiday season.\n\nKey Takeaways:\n\n\n	Low-cost yet effective marketing strategies\n	Leveraging social media and email campaigns for maximum reach\n	Partnering with influencers and other businesses to amplify your message\n	Creative holiday promotions to engage your audience\n	Tools and platforms to simplify marketing on a budget\n\n\nGet ready to make the most of the holiday season with smart\, affordable marketing!\nTake away workbook provided!\n\n\n\nThis is a LUNCH & LEARN event! Lunch is included!
X-ALT-DESC;FMTTYPE=text/html:<span style="font-size:16px\;"><u><strong>Holiday Marketing on a Budget: Maximizing Impact with Minimal Spend</strong></u></span><br />\n<span class="OYPEnA font-feature-liga-off font-feature-clig-off font-feature-calt-off text-decoration-none text-strikethrough-none" style="font-kerning: none\;">This workshop will teach participants how to create effective holiday marketing campaigns without breaking the bank. Attendees will learn cost-effective strategies\, practical tips\, and creative ideas to make their brand stand out during the busy holiday season.</span>\n<p>The holiday season is a prime time for businesses to boost sales and engage with customers\, but marketing can often be expensive. In this hands-on workshop\, you&#39\;ll learn practical strategies to create impactful holiday marketing campaigns without breaking the bank. Discover budget-friendly tactics to attract attention\, increase customer engagement\, and drive sales during the most competitive time of the year. We&#39\;ll explore creative social media promotions\, email marketing\, partnerships\, and more&mdash\;all designed to maximize results on a limited budget. Whether you&#39\;re a small business owner\, marketer\, or entrepreneur\, this workshop will equip you with actionable tools to thrive this holiday season.</p>\n\n<p><strong>Key Takeaways:</strong></p>\n\n<ul>\n	<li>Low-cost yet effective marketing strategies</li>\n	<li>Leveraging social media and email campaigns for maximum reach</li>\n	<li>Partnering with influencers and other businesses to amplify your message</li>\n	<li>Creative holiday promotions to engage your audience</li>\n	<li>Tools and platforms to simplify marketing on a budget</li>\n</ul>\n\n<p>Get ready to make the most of the holiday season with smart\, affordable marketing!</p>\n<span class="OYPEnA font-feature-liga-off font-feature-clig-off font-feature-calt-off text-decoration-none text-strikethrough-none" style="font-kerning: none\;">Take away workbook provided!<br />\n<br />\n<span style="font-size:14px\;"><strong><em>This is a LUNCH &amp\; LEARN event! Lunch is included!</em></strong></span></span>
LOCATION:Woodward Theater 1404 Main ST. Cincinnati OH 45202
UID:e.1671.9222
SEQUENCE:3
DTSTAMP:20260424T083654Z
URL:https://business.otrchamber.com/events/details/marketing-workshop-series-part-v-holiday-marketing-on-a-budget-9222
END:VEVENT

END:VCALENDAR
