BEGIN:VCALENDAR
VERSION:2.0
PRODID:-//ChamberMaster//Event Calendar 2.0//EN
METHOD:PUBLISH
X-PUBLISHED-TTL:P3D
REFRESH-INTERVAL:P3D
CALSCALE:GREGORIAN
BEGIN:VEVENT
DTSTART:20250518T160000Z
DTEND:20250518T190000Z
X-MICROSOFT-CDO-ALLDAYEVENT:FALSE
SUMMARY:I Dos & Brews: A Craft Wedding Experience by Rhinegeist Brewery
DESCRIPTION:Join us on Sunday\, May 18th from 12-3 pm for our THIRD ANNUAL I Dos and Brews: A Craft Wedding Experience! Whether you are tying the knot soon or are discovering your options\, we welcome you to enjoy a celebratory day sipping on your favorite beverage and swooning over the most expert local wedding & event professionals. Find everything you need to craft a unique and memorable experience for your big day! Each $15 ticket includes admission\, your first complimentary beverage\, and a custom gift bag including a brochure from each vendor.\nSay "I Do" to the perfect wedding plans!\n\n-\n\nJOIN THE PARTY! \n\nThis celebratory and unique wedding expo is designed for all couples no matter their budget\, style\, venue\, or partner - a MUST-do event for anyone planning a wedding\, considering proposing\, or wanting to explore the latest wedding trends. Let's make wedding planning FUN! We can't wait to see you there.
X-ALT-DESC;FMTTYPE=text/html:<p><span style="color:rgb(36\, 64\, 97)">Join us on&nbsp\;Sunday\, May 18th from 12-3&nbsp\;pm&nbsp\;for our THIRD ANNUAL&nbsp\;<span style="color:rgb(192\, 145\, 0)">I Dos and Brews: A Craft Wedding Experience!</span>&nbsp\;Whether you are tying the knot soon or are discovering your options\, we welcome you to enjoy a celebratory day sipping on your favorite beverage and swooning over the most expert local wedding &amp\; event professionals. Find everything you need to craft a unique and memorable experience for your big day!&nbsp\;Each $15 ticket includes admission\, your first&nbsp\;complimentary&nbsp\;beverage\, and a custom gift bag including a brochure from each vendor.</span></p>\n<span style="color:rgb(36\, 64\, 97)">Say &quot\;I Do&quot\; to the perfect wedding plans!<br />\n-</span>\n\n<h2><span style="color:rgb(15\, 36\, 62)"><span style="color:rgb(36\, 64\, 97)"><span style="color:rgb(192\, 145\, 0)">JOIN THE PARTY!&nbsp\;</span></span></span></h2>\n\n<p><span style="color:rgb(15\, 36\, 62)"><span style="color:rgb(36\, 64\, 97)">This celebratory and unique wedding expo is designed for all couples no matter their budget\, style\, venue\, or partner&nbsp\;-&nbsp\;a&nbsp\;<em>MUST-do</em>&nbsp\;event for anyone planning a wedding\, considering proposing\, or wanting to explore the latest wedding trends. Let&#39\;s make wedding planning FUN!&nbsp\;We can&#39\;t wait to see you there.&nbsp\;</span></span></p>\n
LOCATION:Rhinegeist Brewery 1910 Elm Street Cincinnati\, OH
UID:e.1671.9957
SEQUENCE:3
DTSTAMP:20260422T085222Z
URL:https://business.otrchamber.com/events/details/i-dos-brews-a-craft-wedding-experience-by-rhinegeist-brewery-9957
END:VEVENT

END:VCALENDAR
