BEGIN:VCALENDAR
VERSION:2.0
PRODID:-//ChamberMaster//Event Calendar 2.0//EN
METHOD:PUBLISH
X-PUBLISHED-TTL:P3D
REFRESH-INTERVAL:P3D
CALSCALE:GREGORIAN
BEGIN:VEVENT
DTSTART:20260722T233000Z
DTEND:20260723T020000Z
X-MICROSOFT-CDO-ALLDAYEVENT:FALSE
SUMMARY:FC Cincinnati vs. Vancouver Whitecaps FC Home Game
DESCRIPTION:The FC Cincinnati 2026 season is here! Come and experience professional soccer like never before at TQL Stadium - home of FC Cincinnati - located in the heart of Cincinnati's West End. Be among the sea of die-hard fans dressed in orange and blue as you cheer during each adrenaline-packed game.
X-ALT-DESC;FMTTYPE=text/html:The FC Cincinnati 2026 season is here! Come and experience professional soccer like never before at TQL Stadium - home of FC Cincinnati - located in the heart of Cincinnati&#39\;s West End. Be among the sea of die-hard fans dressed in orange and blue as you cheer during each adrenaline-packed game.
LOCATION:TQL Stadium 1501 Central Parkway Cincinnati\, OH 45214
UID:e.1671.10077
SEQUENCE:3
DTSTAMP:20260419T132455Z
URL:https://business.otrchamber.com/events/details/fc-cincinnati-vs-vancouver-whitecaps-fc-10077
END:VEVENT

END:VCALENDAR
