BEGIN:VCALENDAR
VERSION:2.0
PRODID:-//ChamberMaster//Event Calendar 2.0//EN
METHOD:PUBLISH
X-PUBLISHED-TTL:P3D
REFRESH-INTERVAL:P3D
CALSCALE:GREGORIAN
BEGIN:VEVENT
DTSTART:20240814T200000Z
DTEND:20240814T220000Z
X-MICROSOFT-CDO-ALLDAYEVENT:FALSE
SUMMARY:OTR Chamber August 2024 Networking Event
DESCRIPTION:Join us for our monthly networking event at The Porch at Washington Park!  Meet and collaborate with folks from OTR businesses in a fun environment.  \n\n\n\nNetworking Events will be hosted by different OTR businesses each month.  Contact Julie@otrchamber.com if you would like to host an upcoming networking event at your business.\n\n\n\nMake sure you are on our invite list for upcoming events by emailing info@otrchamber.com.
X-ALT-DESC;FMTTYPE=text/html:Join us for our monthly networking event at <strong>The Porch at Washington Park!</strong>&nbsp\; Meet and collaborate with folks from OTR businesses in a fun environment.&nbsp\;&nbsp\;<br />\n<br />\nNetworking Events will be hosted by different OTR businesses each month.&nbsp\; Contact Julie@otrchamber.com if you would like to host an upcoming networking event at your business.<br />\n<br />\nMake sure you are on our invite list for upcoming events by emailing info@otrchamber.com.
LOCATION:The Porch at Washington Park - 1230 Elm St. Cincinnati\, OH 45202
UID:e.1671.8527
SEQUENCE:3
DTSTAMP:20260421T084133Z
URL:http://business.otrchamber.com/events/details/otr-chamber-august-2024-networking-event-8527
END:VEVENT

END:VCALENDAR
